BEGIN:VCALENDAR
PRODID:-//eluceo/ical//2.0/EN
VERSION:2.0
CALSCALE:GREGORIAN
BEGIN:VEVENT
UID:25da25dd9fd74995917fb9b64549d34c
DTSTAMP:20260420T112649Z
SUMMARY:INVITATION : ACTE DE SIGNATURE DE LA CHARTE - COMITÉ INTER-PAYS (C
 IP) BELGIQUE - LUXEMBOURG - INDONÉSIE
DESCRIPTION:
URL:https://polaris.rotarybelux.org/fr/agenda/show/52490
DTSTART;TZID=Europe/Zurich:20221029T103000
DTEND;TZID=Europe/Zurich:20221029T123000
LOCATION:Online conference |Conférence visio
CATEGORIES:Rotary
END:VEVENT
BEGIN:VTIMEZONE
TZID:Europe/Zurich
BEGIN:DAYLIGHT
DTSTART:20221029T103000
TZNAME:CEST
TZOFFSETTO:+0200
TZOFFSETFROM:+0200
END:DAYLIGHT
END:VTIMEZONE
END:VCALENDAR
